View In:
ArcMap
Google Earth
ArcGIS JavaScript
ArcGIS.com Map
View Footprint In:
Google Earth
Service Description: Digital Orthoimagery Series of Idaho (2009, 1-meter, Natural Color + IR)
Name: IIDATA/imageryBaseMapsEarthCover/2009_1m_idaho
Description: Digital Orthoimagery Series of Idaho (2009, 1-meter, Natural Color + IR)
Extent:
XMin: 2240213.94399071
YMin: 1192569.43801308
XMax: 2748777.13364983
YMax: 1988283.43600273
Spatial Reference: 102605
Pixel Size X: 1
Pixel Size Y: 1
Band Count: 4
Pixel Type: U8
Min Pixel Size: 0
Maximum Pixel Size: 0
Copyright Text:
Service Data Type: esriImageServiceDataTypeGeneric
Min Values:
Max Values:
Mean Values:
Standard Deviation Values:
Object ID Field:
Fields:
Supported Interfaces:
REST
SOAP
WMS
WCS
Supported Operations:
Export Image
Identify